BEGIN:VCALENDAR
VERSION:2.0
PRODID:icalendar-ruby
CALSCALE:GREGORIAN
METHOD:PUBLISH
BEGIN:VTIMEZONE
TZID:Australia/Sydney
BEGIN:DAYLIGHT
DTSTART:20261004T030000
TZOFFSETFROM:+1000
TZOFFSETTO:+1100
RRULE:FREQ=YEARLY;BYDAY=1SU;BYMONTH=10
TZNAME:AEDT
END:DAYLIGHT
BEGIN:STANDARD
DTSTART:20260405T020000
TZOFFSETFROM:+1100
TZOFFSETTO:+1000
RRULE:FREQ=YEARLY;BYDAY=1SU;BYMONTH=4
TZNAME:AEST
END:STANDARD
END:VTIMEZONE
BEGIN:VEVENT
DTSTAMP:20260421T105545Z
UID:inspection_3006985
DTSTART;TZID=Australia/Sydney:20260425T105000
DTEND;TZID=Australia/Sydney:20260425T112000
CLASS:PUBLIC
CREATED:20260421T113301
DESCRIPTION: 
LAST-MODIFIED:20260421T113301
LOCATION:2 McCool Street\, WARILLA NSW 2528\, Australia
SUMMARY:2 McCool Street\,  Inspection
URL;VALUE=URI:https://www.oneagencyepg.com.au/
END:VEVENT
END:VCALENDAR
