BEGIN:VCALENDAR
VERSION:2.0
PRODID:icalendar-ruby
CALSCALE:GREGORIAN
METHOD:PUBLISH
BEGIN:VTIMEZONE
TZID:Australia/Sydney
BEGIN:DAYLIGHT
DTSTART:20261004T030000
TZOFFSETFROM:+1000
TZOFFSETTO:+1100
RRULE:FREQ=YEARLY;BYDAY=1SU;BYMONTH=10
TZNAME:AEDT
END:DAYLIGHT
BEGIN:STANDARD
DTSTART:20260405T020000
TZOFFSETFROM:+1100
TZOFFSETTO:+1000
RRULE:FREQ=YEARLY;BYDAY=1SU;BYMONTH=4
TZNAME:AEST
END:STANDARD
END:VTIMEZONE
BEGIN:VEVENT
DTSTAMP:20260424T124959Z
UID:inspection_3013075
DTSTART;TZID=Australia/Sydney:20260429T170012
DTEND;TZID=Australia/Sydney:20260429T173012
CLASS:PUBLIC
CREATED:20260424T175906
DESCRIPTION: 
LAST-MODIFIED:20260424T175906
LOCATION:3 Valetta Street\, WEST WOLLONGONG NSW 2500\, Australia
SUMMARY:3 Valetta Street\,  Inspection
URL;VALUE=URI:https://www.oneagencyepg.com.au/
END:VEVENT
END:VCALENDAR
